BEGIN:VCALENDAR
VERSION:2.0
PRODID:-//Nespto - ECPv6.7.0//NONSGML v1.0//EN
CALSCALE:GREGORIAN
METHOD:PUBLISH
X-WR-CALNAME:Nespto
X-ORIGINAL-URL:https://nespto.com
X-WR-CALDESC:Events for Nespto
REFRESH-INTERVAL;VALUE=DURATION:PT1H
X-Robots-Tag:noindex
X-PUBLISHED-TTL:PT1H
BEGIN:VTIMEZONE
TZID:UTC
BEGIN:STANDARD
TZOFFSETFROM:+0000
TZOFFSETTO:+0000
TZNAME:UTC
DTSTART:20260101T000000
END:STANDARD
END:VTIMEZONE
BEGIN:VEVENT
DTSTART;TZID=UTC:20260428T170000
DTEND;TZID=UTC:20260428T213000
DTSTAMP:20260425T195851
CREATED:20230808T071113Z
LAST-MODIFIED:20260420T153514Z
UID:492-1777395600-1777411800@nespto.com
SUMMARY:Spirit Night - Melio's
DESCRIPTION:Join us for Meglio’s Spirit Night on April 28th from 5–CLOSE! 🍕 \nMention you’re there from NES\, and a portion of your purchase will be donated back to the PTO. Enjoy an evening of no cooking & supporting your school!
URL:https://nespto.com/event/spirit-night/
END:VEVENT
END:VCALENDAR